BEGIN:VCALENDAR
VERSION:2.0
PRODID:-//eventon.com NONSGML v1.0//EN
CALSCALE:GREGORIAN
METHOD:PUBLISH
BEGIN:VEVENT
UID:69e732e7cea2d
DTSTAMP:20260421T081847Z
DTSTART:20260620
DTEND:20260621
LOCATION:Golf Club de Thumeries Moncheaux CD8\,  Le Bois Langlart\,  59239 Thumeries
SUMMARY:Grand Prix Jeunes HDF Thumeries
DESCRIPTION:Grand Prix Jeunes HDF Thumeries\nhttps://www.golfhautsdefrance.
 com/events/grand-prix-jeunes-hdf-thumeries-2026/
URL:https://www.golfhautsdefrance.com/events/grand-prix-jeunes-hdf-thumeries-2026/
END:VEVENT
END:VCALENDAR