BEGIN:VCALENDAR
VERSION:2.0
PRODID:-//eventon.com NONSGML v1.0//EN
CALSCALE:GREGORIAN
METHOD:PUBLISH
BEGIN:VEVENT
UID:69ed147c26e52
DTSTAMP:20260425T192236Z
DTSTART:20210731
DTEND:20210801
LOCATION:Golf de Wimereux Avenue François Mitterrand\,  62930 Wimereux
SUMMARY:Grand Prix Thierry Delassus de Wimereux
DESCRIPTION:Lien Article dédié\nhttps://www.golfhautsdefrance.com/events/
 grand-prix-thierry-delassus-de-wimereux/
URL:https://www.golfhautsdefrance.com/events/grand-prix-thierry-delassus-de-wimereux/
END:VEVENT
END:VCALENDAR