BEGIN:VCALENDAR
VERSION:2.0
PRODID:-//eventon.com NONSGML v1.0//EN
CALSCALE:GREGORIAN
METHOD:PUBLISH
BEGIN:VEVENT
UID:69e79af9cce83
DTSTAMP:20260421T154249Z
DTSTART:20200716
DTEND:20200717
LOCATION:Golf de Chantilly Allée de la Ménagerie 60500 Vineuil-Saint-Firmin
SUMMARY:Trophée Séniors de Chantilly
DESCRIPTION:Les résultats du Trophée : 200717 &#8211; Résultats définit
 ifs Dames  200717 &#8211; Résultats définitifs Messieurs &nbsp; Vous tro
 uverez ci-après les informations relatives à cette compétition : 200630 
 Règlement Trophée Chantilly Seniors 2020 200630 Trophée Chantilly Senior
 s feuille d&rsquo;inscription &nbsp; &nbsp;\nhttps://www.golfhautsdefrance.
 com/events/trophee-seniors-de-chantilly-4/
URL:https://www.golfhautsdefrance.com/events/trophee-seniors-de-chantilly-4/
END:VEVENT
END:VCALENDAR