BEGIN:VCALENDAR
VERSION:2.0
PRODID:-//eventon.com NONSGML v1.0//EN
CALSCALE:GREGORIAN
METHOD:PUBLISH
BEGIN:VEVENT
UID:69ea2d92d327e
DTSTAMP:20260423T143250Z
DTSTART:20201023
DTEND:20201024
LOCATION:Golf Club du Lys Chantilly Rond-point du Grand Cerf\,  60260 Lamorlaye
SUMMARY:Trophée Séniors et Vétérans du Lys Chantilly
DESCRIPTION:2020_10_Règlement Trophée Senior &amp; Vétérans du Lys Lien
  Article dédié\nhttps://www.golfhautsdefrance.com/events/trophee-seniors-
 et-veterans-du-lys-chantilly/
URL:https://www.golfhautsdefrance.com/events/trophee-seniors-et-veterans-du-lys-chantilly/
END:VEVENT
END:VCALENDAR