BEGIN:VCALENDAR
VERSION:2.0
PRODID:-//eventon.com NONSGML v1.0//EN
CALSCALE:GREGORIAN
METHOD:PUBLISH
BEGIN:VEVENT
UID:69ea2e97438a6
DTSTAMP:20260423T143711Z
DTSTART:20200926
DTEND:20200927
LOCATION:Golf de l'Ailette 02860 Cerny-en-Laonnois
SUMMARY:Grand Prix de l'Ailette
DESCRIPTION:Vous trouverez ci-après les informations relatives au Grand Pr
 ix de l&rsquo;Ailette : Règlement XXVIeme GRAND PRIX DE L&rsquo;AILETTE Li
 en ARTICLE DÉDIÉ Cette épreuve est qualificative pour les Minimes rentra
 nt dans le champ pour les Championnats de France Minimes 2020 : CF 2020 Min
 ime\nhttps://www.golfhautsdefrance.com/events/grand-prix-de-lailette-4/
URL:https://www.golfhautsdefrance.com/events/grand-prix-de-lailette-4/
END:VEVENT
END:VCALENDAR