BEGIN:VCALENDAR
VERSION:2.0
PRODID:-//eventon.com NONSGML v1.0//EN
CALSCALE:GREGORIAN
METHOD:PUBLISH
BEGIN:VEVENT
UID:69e981ccc03fe
DTSTAMP:20260423T021956Z
DTSTART:20191010
DTEND:20191011
LOCATION:Golf de Brigode 36 Avenue du Golf\,  59650 Villeneuve-d'Ascq
SUMMARY:Compétition Octobre Rose
DESCRIPTION:Scramble à deux Equipes Dames\nhttp://www.golfhautsdefrance.co
 m/events/competition-octobre-rose/
URL:http://www.golfhautsdefrance.com/events/competition-octobre-rose/
END:VEVENT
END:VCALENDAR